BEGIN:VCALENDAR
VERSION:2.0
PRODID:-//Transparência Internacional Portugal - ECPv6.15.20//NONSGML v1.0//EN
CALSCALE:GREGORIAN
METHOD:PUBLISH
X-WR-CALNAME:Transparência Internacional Portugal
X-ORIGINAL-URL:https://transparencia.pt
X-WR-CALDESC:Eventos para Transparência Internacional Portugal
REFRESH-INTERVAL;VALUE=DURATION:PT1H
X-Robots-Tag:noindex
X-PUBLISHED-TTL:PT1H
BEGIN:VTIMEZONE
TZID:Europe/Lisbon
BEGIN:DAYLIGHT
TZOFFSETFROM:+0000
TZOFFSETTO:+0100
TZNAME:WEST
DTSTART:20200329T010000
END:DAYLIGHT
BEGIN:STANDARD
TZOFFSETFROM:+0100
TZOFFSETTO:+0000
TZNAME:WET
DTSTART:20201025T010000
END:STANDARD
BEGIN:DAYLIGHT
TZOFFSETFROM:+0000
TZOFFSETTO:+0100
TZNAME:WEST
DTSTART:20210328T010000
END:DAYLIGHT
BEGIN:STANDARD
TZOFFSETFROM:+0100
TZOFFSETTO:+0000
TZNAME:WET
DTSTART:20211031T010000
END:STANDARD
BEGIN:DAYLIGHT
TZOFFSETFROM:+0000
TZOFFSETTO:+0100
TZNAME:WEST
DTSTART:20220327T010000
END:DAYLIGHT
BEGIN:STANDARD
TZOFFSETFROM:+0100
TZOFFSETTO:+0000
TZNAME:WET
DTSTART:20221030T010000
END:STANDARD
END:VTIMEZONE
BEGIN:VEVENT
DTSTART;TZID=Europe/Lisbon:20211206T170000
DTEND;TZID=Europe/Lisbon:20211206T190000
DTSTAMP:20260420T180352
CREATED:20211116T121536Z
LAST-MODIFIED:20211206T105408Z
UID:15554-1638810000-1638817200@transparencia.pt
SUMMARY:O Poder Local e o reforço da Integridade na Gestão Pública
DESCRIPTION:O Poder Local e o reforço da Integridadena Gestão Pública\nPor motivos alheios à nossa vontade\, informamos que a sessão desta tarde\, dedicada ao poder local e ao reforço da integridade na gestão pública\, foi cancelada. \nO visionamento do filme “Colectiv – Um Caso de Corrupção” continua agendado para as 21 horas \, no Centro Cívico Edmundo Pedro\, numa parceria com o Alvalade CineClube e a Junta de Freguesia de Alvalade – Lisboa. \nO filme será apresentado por Joaquim Viana\, associado da TI Portugal e Vice-Presidente do Conselho Regional da Secção Regional do Centro da Ordem dos Médicos. \nTendo em conta as novas medidas de combate à COVID-19\, o acesso à sessão depende da apresentação de certificado digital (vacinação\, teste ou recuperação). \n			\n						participar\n					\n			\n						festival transparente 2021
URL:https://transparencia.pt/event/o-poder-local-e-o-reforco-da-integridade-na-gestao-publica/
LOCATION:Online
CATEGORIES:Festival Transparente,Webinar
ATTACH;FMTTYPE=image/png:https://transparencia.pt/wp-content/uploads/2021/11/TRANSPARENTE_2021.png
ORGANIZER;CN="Transpar%C3%AAncia Internacional Portugal":MAILTO:secretariado@transparencia.pt
END:VEVENT
BEGIN:VEVENT
DTSTART;TZID=Europe/Lisbon:20211206T210000
DTEND;TZID=Europe/Lisbon:20211206T230000
DTSTAMP:20260420T180352
CREATED:20211124T205350Z
LAST-MODIFIED:20211206T163128Z
UID:15562-1638824400-1638831600@transparencia.pt
SUMMARY:Colectiv – Um caso de corrupção
DESCRIPTION:Colectiv – Um caso de Corrupção\nFilme Comentado\nNo dia 30 de Outubro de 2015\, em Bucareste (Roménia)\, durante um concerto de uma banda de rock\, um incêndio de grandes proporções causou a morte a dezenas de pessoas\, deixando quase duas centenas feridas\, muitas delas em estado grave. \nEste filme\, escrito\, produzido e realizado pelo cineasta Alexander Nanau\, revela a investigação de um grupo de jornalistas que deu a conhecer uma série de falecimentos\, dias depois\, de pessoas hospitalizadas com ferimentos não considerados fatais. O que eles provaram foi que essas mortes resultaram de um enorme esquema de fraude no sistema nacional de saúde romeno e de várias instituições do Estado. \nEstreado no Festival de Cinema de Veneza\, “Colectiv – Um Caso de Corrupção”\, foi nomeado para o Óscar de melhor documentário e recebeu o LUX Prémio do Público de cinema 2021\, uma distinção atribuída pelo Parlamento Europeu em parceria com a European Film Academy\, a Comissão Europeia e a rede Europa Cinemas. \nFonte: Público \nTendo em conta as novas medidas de combate à COVID-19\, o acesso à sessão depende da apresentação de certificado digital (vacinação\, teste ou recuperação). \n\nparticipar\n\n\nfestival transparente 2021\n \nTítulo original: Colectiv \nDe: Alexander Nanau \nGénero: Documentário \nClassificação: M/14 \nOutros dados: LUX/ALE/ROM\, 2019\, Cores\, 109 min.
URL:https://transparencia.pt/event/colectiv-um-caso-de-corrupcao/
LOCATION:Centro Cívico Edmundo Pedro\, Rua Conde Arnoso 5B\, Lisboa\, 1700-112\, Portugal
CATEGORIES:Festival Transparente
ATTACH;FMTTYPE=image/png:https://transparencia.pt/wp-content/uploads/2021/11/TRANSPARENTE_2021.png
ORGANIZER;CN="Transpar%C3%AAncia Internacional Portugal":MAILTO:secretariado@transparencia.pt
END:VEVENT
BEGIN:VEVENT
DTSTART;TZID=Europe/Lisbon:20211207T173000
DTEND;TZID=Europe/Lisbon:20211207T193000
DTSTAMP:20260420T180352
CREATED:20211116T123654Z
LAST-MODIFIED:20211124T213814Z
UID:15567-1638898200-1638905400@transparencia.pt
SUMMARY:O Inimigo Sem Rosto
DESCRIPTION:O Inimigo sem Rosto\n18 anos depois o que mudou no combate à fraude e corrupção em Portugal?\nEm outubro de 2003\, Maria José Morgado e José Vegar lançavam O Inimigo Sem Rosto pela D. Quixote. \nO livro\, dedicado a analisar a criminalidade económico-financeira\, demonstrou como a corrupção e a fraude fazem muitas vítimas\, causando um dano irreversível ao Estado e aos seus cidadãos: pobreza\, subdesenvolvimento económico\, injustiça social\, degradação do sistema político e das instituições públicas. \nPassados 18 anos desde a publicação\, convidámos os autores a refletir sobre o que mudou entretanto no combate à fraude e corrupção em Portugal\, numa conversa moderada por Susana Coroado. \nLocal: Museu Bordalo Pinheiro \n\nparticipar\n\n\nfestival transparente 2021
URL:https://transparencia.pt/event/o-inimigo-sem-rosto/
LOCATION:Museu Bordalo Pinheiro\, Campo Grande 382\, Lisboa\, Lisboa\, 1700-097\, Portugal
CATEGORIES:Festival Transparente
ORGANIZER;CN="Transpar%C3%AAncia Internacional Portugal":MAILTO:secretariado@transparencia.pt
END:VEVENT
BEGIN:VEVENT
DTSTART;TZID=Europe/Lisbon:20211208T093000
DTEND;TZID=Europe/Lisbon:20211208T120000
DTSTAMP:20260420T180352
CREATED:20211124T192315Z
LAST-MODIFIED:20211207T220205Z
UID:15579-1638955800-1638964800@transparencia.pt
SUMMARY:Circuito da Corrupção: A Banca Rota
DESCRIPTION:Circuito da Corrupção: Banca Rota\nUm passeio que vale 20 mil milhões de euros\nA Banca Rota é o circuito da corrupção que nos leva a conhecer três das mais espectaculares falências bancárias dos últimos anos em Portugal: do BPN ao BPP e BES\, seguimos o rasto de negócios escuros e prejuízos que rondam os 20 mil milhões de euros. \nBPN\nO comprador de simpatias. \nComo Oliveira e Costa\, um antigo governante que negociou perdões fiscais a grandes empresários\, abriu um banco de “negócios” que rebentou na primeira das grandes falências bancárias do séc. XXI – e num mega-processo de corrupção financeira. \nPreço: 6\,2 mil milhões de € \nBES\nO Dono Disto Tudo. \nComo Ricardo Salgado manobrou o país político e económico a partir do piso 13 da sede do BES\, influenciando negócios e Governos e Portugal e no estrangeiro. \nPreço: 12 mil milhões de € \nBPP\nO artista da banca. \nComo João Rendeiro se lançou na banca privada\, falseou contas e desviou dinheiro\, obras de arte\, simpatias e influências até fugir do país\, num dos processos mais rocambolescos da Justiça portuguesa. \nPreço: 1\,6 mil milhões de € \nBdP\nO regulador amigável. \nOs vários escândalos bancários puseram em causa a qualidade dos controlos e auditorias e expuseram um regulador ineficaz e comprometido por conflitos de interesses. E se fosse hoje? Temos a certeza de que não volta a acontecer? \nPonto de encontro: \n9h45: Rua Marquês de Fronteira\, 8 \n(Saída Metro: Rua Marquês de Fronteira / Rua Fialho de Almeida) \n\nparticipar\n\n\nfestival transparente 2021
URL:https://transparencia.pt/event/circuitos-da-corrupcao-banca-rota/
CATEGORIES:Festival Transparente
ATTACH;FMTTYPE=image/png:https://transparencia.pt/wp-content/uploads/2021/11/TRANSPARENTE_2021.png
END:VEVENT
BEGIN:VEVENT
DTSTART;TZID=Europe/Lisbon:20211209T100000
DTEND;TZID=Europe/Lisbon:20211209T100000
DTSTAMP:20260420T180352
CREATED:20211125T191413Z
LAST-MODIFIED:20211129T123259Z
UID:15569-1639044000-1639044000@transparencia.pt
SUMMARY:Comemorações do Dia Internacional Contra a Corrupção
DESCRIPTION:Comemorações do Dia Internacionalcontra a Corrupção\nCiclo de conferências nas Caldas da Rainha\nAs comemorações portuguesas do Dia Internacional Contra a Corrupção\, no próximo dia 9 de Dezembro\, decorrem este ano no Centro Cultural e de Congressos das Caldas da Rainha\, numa organização conjunta das associações Transparência Internacional Portugal\, Frente Cívica\, Associação Sindical dos Profissionais da Inspeção Tributária e Aduaneira e Associação MVC – Movimento Viver o Concelho\, com o apoio da Câmara Municipal das Caldas da Rainha. A efeméride\, instituída pela ONU em 2003\, celebra a assinatura da Convenção das Nações Unidas Contra a Corrupção. \nO evento conta com a participação da ex-Procuradora-Geral da República\, Joana Marques Vidal\, e dos ex-candidatos presidenciais Ana Gomes e Paulo de Morais. Joana Marques Vidal fará uma apresentação intitulada “E agora? Ainda faz sentido falar numa Estratégia Nacional Anti-Corrupção?”\, enquanto Ana Gomes e Paulo de Morais discutirão políticas para “Reforçar o combate contra a corrupção em Portugal”. \nO programa inclui ainda dois painéis sobre duas questões prioritárias\, mas largamente ausentes da Estratégia Nacional Anti-Corrupção proposta pelo Governo: a corrupção política e a gestão dos fundos europeus. Serão oradores nestes painéis a presidente da TI Portugal\, Susana Coroado\, o presidente da APIT\, Nuno Barroso\, a procuradora do Departamento Central de Investigação e Ação Penal\, Ana Carla Almeida\, os investigadores Luís de Sousa e Susana Peralta e o consultor de políticas anti-corrupção João Paulo Batalha. \nLocal: Centro Cultural e de Congressos das Caldas da Rainha \n			\n						participar\n					\n			\n						programa\n					\n			\n						festival transparente 2021
URL:https://transparencia.pt/event/comemoracoes-do-dia-internacional-contra-a-corrupcao/
LOCATION:Centro Cultural de Congressos das Caldas da Rainha\, R. Dr. Leonel Sotto Mayor 23D\, Caldas da Rainha\, 2500\, Portugal
CATEGORIES:Festival Transparente
ATTACH;FMTTYPE=image/jpeg:https://transparencia.pt/wp-content/uploads/2021/11/Cartaz-Evento-face-RGB.jpg
ORGANIZER;CN="Transpar%C3%AAncia Internacional Portugal":MAILTO:secretariado@transparencia.pt
END:VEVENT
END:VCALENDAR