BEGIN:VCALENDAR
VERSION:2.0
PRODID:-//Transparência Internacional Portugal - ECPv6.15.20//NONSGML v1.0//EN
CALSCALE:GREGORIAN
METHOD:PUBLISH
X-WR-CALNAME:Transparência Internacional Portugal
X-ORIGINAL-URL:https://transparencia.pt
X-WR-CALDESC:Eventos para Transparência Internacional Portugal
REFRESH-INTERVAL;VALUE=DURATION:PT1H
X-Robots-Tag:noindex
X-PUBLISHED-TTL:PT1H
BEGIN:VTIMEZONE
TZID:Europe/Lisbon
BEGIN:DAYLIGHT
TZOFFSETFROM:+0000
TZOFFSETTO:+0100
TZNAME:WEST
DTSTART:20230326T010000
END:DAYLIGHT
BEGIN:STANDARD
TZOFFSETFROM:+0100
TZOFFSETTO:+0000
TZNAME:WET
DTSTART:20231029T010000
END:STANDARD
BEGIN:DAYLIGHT
TZOFFSETFROM:+0000
TZOFFSETTO:+0100
TZNAME:WEST
DTSTART:20240331T010000
END:DAYLIGHT
BEGIN:STANDARD
TZOFFSETFROM:+0100
TZOFFSETTO:+0000
TZNAME:WET
DTSTART:20241027T010000
END:STANDARD
BEGIN:DAYLIGHT
TZOFFSETFROM:+0000
TZOFFSETTO:+0100
TZNAME:WEST
DTSTART:20250330T010000
END:DAYLIGHT
BEGIN:STANDARD
TZOFFSETFROM:+0100
TZOFFSETTO:+0000
TZNAME:WET
DTSTART:20251026T010000
END:STANDARD
END:VTIMEZONE
BEGIN:VEVENT
DTSTART;TZID=Europe/Lisbon:20241211T170000
DTEND;TZID=Europe/Lisbon:20241211T190000
DTSTAMP:20260421T110853
CREATED:20241025T135942Z
LAST-MODIFIED:20241211T163046Z
UID:28142-1733936400-1733943600@transparencia.pt
SUMMARY:Tertúlia Aberta | Festival Transparente 2024
DESCRIPTION:O Novo Pacote Legislativo Europeu de Prevenção do Branqueamento de Capitais e Financiamento do Terrorismo (AML/CFT) representa um esforço significativo da União Europeia para fortalecer as medidas de combate ao branqueamento de capitais e ao financiamento do terrorismo.  \nEsta sessão das Tertúlias Abertas\, organizada no âmbito do Festival Transparente 2024\, é dirigida a decisores públicos\, profissionais de compliance\, organizações da sociedade civil\, estudantes\, académicos\, líderes empresariais e público em geral\, e tem como objetivo apresentar a nova legislação\, e discutir de que modo traduz um passo importante na luta contra o crime financeiro na UE e no mundo. \nA sessão é aberta a todas as pessoas e instituições interessadas e irá ter lugar através da Plataforma Zoom\, mediante inscrição prévia\, entre as 17h00 e as 19h00. \nPainel de Oradores: \n\nDaniela Pessoa Tavares (Assistente Convidada na Faculdade de Direito da Universidade de Lisboa)\nJoão Rosado Videira (Consultor Sénior Novobanco –  Banca de Correspondência)\nPedro Bernardino (Head of Financial Crime Unit no Novobanco)\nFilipa Gonçalves (Advogada)\nModeração: José Fontão (Vice-Presidente da TI Portugal)\n\nFaz já a tua inscrição e junta-te a nós para mais uma edição das Tertúlias Abertas! \n\nInscrição ZOOM AQUI!\n\nSabe mais e participa no Festival Transparente 2024! \n\nParticipação em Eventos TI Portugal\nInformamos que os seus dados pessoais serão recolhidos\, processados e usados de acordo com Regulamento Geral de Proteção de Dados (EU) 2016/679 do Parlamento Europeu e do Conselho\, de 27 de abril de 2016 (RGPD) e da Lei n.º 67/98\, de 26 de outubro\, (Lei da Proteção de Dados Pessoais). A Transparência e Integridade\, Associação Cívica\, requer o tratamento dos seus dados pessoais no contexto da divulgação de conteúdo fotográfico e vídeo\, relativo à “Tertúlia Aberta | Festival Transparente 2024”. Ao inscrever-se neste evento autoriza a TI Portugal a tratar todos os dados pessoais disponibilizados\, enquanto entidade responsável pelo tratamento. Em concreto\, com fundamento na prossecução do interesse legítimo da TI Portugal na organização dos seus eventos\, os seus dados pessoais serão tratados para efeitos de gestão da sua participação na “Tertúlia Aberta | Festival Transparente 2024”\, a realizar no dia 11 de dezembro de 2024. A TI Portugal considera que a informação constante deste evento é de interesse público e que a sua divulgação se configura como um instrumento importante na difusão dos valores da transparência e integridade\, pelos quais esta Associação Cívica se rege.
URL:https://transparencia.pt/event/tertulia-aberta-festival-transparente-2024/
LOCATION:Online
CATEGORIES:Festival Transparente,Tertúlia
ATTACH;FMTTYPE=image/png:https://transparencia.pt/wp-content/uploads/2024/10/Festival-Transparente-2024-3.png
ORGANIZER;CN="Transpar%C3%AAncia Internacional Portugal":MAILTO:secretariado@transparencia.pt
END:VEVENT
END:VCALENDAR